BEGIN:VCALENDAR
VERSION:2.0
PRODID:icalendar-ruby
CALSCALE:GREGORIAN
METHOD:PUBLISH
BEGIN:VEVENT
DTSTAMP:20260423T135902Z
UID:801c89b3-7bc1-48d7-a353-b73e70190c66
DTSTART;VALUE=DATE:20140624
DTEND;VALUE=DATE:20140624
DESCRIPTION:Indy Cycloplex BMX
LOCATION:3649 Cold Spring Road  Adjacent To The Major Taylor Velodrome INDI
 ANAPOLIS IN 46222 USA
SUMMARY:Practice
URL:/site/bmx_races/250408
END:VEVENT
END:VCALENDAR
