BEGIN:VCALENDAR
VERSION:2.0
PRODID:icalendar-ruby
CALSCALE:GREGORIAN
METHOD:PUBLISH
BEGIN:VEVENT
DTSTAMP:20260423T090913Z
UID:3f033ac0-368e-47fd-bfd3-9d5d577d50ca
DTSTART;VALUE=DATE:20140923
DTEND;VALUE=DATE:20140923
DESCRIPTION:Indy Cycloplex BMX
LOCATION:3649 Cold Spring Road  Adjacent To The Major Taylor Velodrome INDI
 ANAPOLIS IN 46222 USA
SUMMARY:Practice
URL:/site/bmx_races/250421
END:VEVENT
END:VCALENDAR
