BEGIN:VCALENDAR
VERSION:2.0
PRODID:icalendar-ruby
CALSCALE:GREGORIAN
METHOD:PUBLISH
BEGIN:VEVENT
DTSTAMP:20260422T163000Z
UID:1cb44da4-346a-45dd-a2f2-3aea71155333
DTSTART;VALUE=DATE:20140517
DTEND;VALUE=DATE:20140517
DESCRIPTION:Mag Ridge BMX Park
LOCATION:344 Oldtown Crossing  Ridgeland MS 39157 USA
SUMMARY:Standard Single
URL:/site/bmx_races/251260
END:VEVENT
END:VCALENDAR
