BEGIN:VCALENDAR
VERSION:2.0
PRODID:icalendar-ruby
CALSCALE:GREGORIAN
METHOD:PUBLISH
BEGIN:VEVENT
DTSTAMP:20260422T153948Z
UID:1b10ed5c-fcd8-4f1a-bc04-a09eec85b8e4
DTSTART;VALUE=DATE:20140323
DTEND;VALUE=DATE:20140323
DESCRIPTION:San Diego BMX
LOCATION:3170 Armstrong Street Behind Kearny Mesa Recreation Center San Die
 go CA 92111 USA
SUMMARY:Standard Single
URL:/site/bmx_races/251358
END:VEVENT
END:VCALENDAR
