BEGIN:VCALENDAR
VERSION:2.0
PRODID:icalendar-ruby
CALSCALE:GREGORIAN
METHOD:PUBLISH
BEGIN:VEVENT
DTSTAMP:20260424T174559Z
UID:638cc033-d3f2-483b-976e-3f805b1894ff
DTSTART;VALUE=DATE:20130803
DTEND;VALUE=DATE:20130803
DESCRIPTION:Redwood Empire BMX
LOCATION:201 Vance Ave  Samoa CA 95564 USA
SUMMARY:Standard Single
URL:/site/bmx_races/251434
END:VEVENT
END:VCALENDAR
