BEGIN:VCALENDAR
VERSION:2.0
PRODID:icalendar-ruby
CALSCALE:GREGORIAN
METHOD:PUBLISH
BEGIN:VEVENT
DTSTAMP:20260424T011438Z
UID:c1606a3a-9fe2-4cd0-ad7f-51002d0b28a1
DTSTART;VALUE=DATE:20130707
DTEND;VALUE=DATE:20130707
DESCRIPTION:Lexington BMX
LOCATION:1159 Nazareth Road  Lexington SC 29073 USA
SUMMARY:Standard Single
URL:/site/bmx_races/251521
END:VEVENT
END:VCALENDAR
