BEGIN:VCALENDAR
VERSION:2.0
PRODID:icalendar-ruby
CALSCALE:GREGORIAN
METHOD:PUBLISH
BEGIN:VEVENT
DTSTAMP:20260423T045123Z
UID:5676190f-2578-4497-8e2e-8246af0ba1fc
DTSTART;VALUE=DATE:20130724
DTEND;VALUE=DATE:20130724
DESCRIPTION:San Diego BMX
LOCATION:3170 Armstrong Street Behind Kearny Mesa Recreation Center San Die
 go CA 92111 USA
SUMMARY:Standard Single
URL:/site/bmx_races/251602
END:VEVENT
END:VCALENDAR
