BEGIN:VCALENDAR
VERSION:2.0
PRODID:icalendar-ruby
CALSCALE:GREGORIAN
METHOD:PUBLISH
BEGIN:VEVENT
DTSTAMP:20260423T111816Z
UID:30abe460-b0b3-47a9-abe8-4552d88ed4ab
DTSTART;VALUE=DATE:20130523
DTEND;VALUE=DATE:20130523
DESCRIPTION:Fastrax BMX
LOCATION:2800 S 12th St  Bismarck ND 58504 USA
SUMMARY:Standard Single
URL:/site/bmx_races/251615
END:VEVENT
END:VCALENDAR
