BEGIN:VCALENDAR
VERSION:2.0
PRODID:icalendar-ruby
CALSCALE:GREGORIAN
METHOD:PUBLISH
BEGIN:VEVENT
DTSTAMP:20260419T150730Z
UID:d1bf843b-6563-4dd7-b8e4-166d3d14f7d0
DTSTART;VALUE=DATE:20131215
DTEND;VALUE=DATE:20131215
DESCRIPTION:ORL BMX
LOCATION:4801 W Colonial Dr  Orlando FL 32808 USA
SUMMARY:Standard Single
URL:/site/bmx_races/251697
END:VEVENT
END:VCALENDAR
