BEGIN:VCALENDAR
VERSION:2.0
PRODID:icalendar-ruby
CALSCALE:GREGORIAN
METHOD:PUBLISH
BEGIN:VEVENT
DTSTAMP:20260422T222141Z
UID:9969d1ca-688c-4a36-87c5-62b0e190d682
DTSTART;VALUE=DATE:20131117
DTEND;VALUE=DATE:20131117
DESCRIPTION:San Diego BMX
LOCATION:3170 Armstrong Street Behind Kearny Mesa Recreation Center San Die
 go CA 92111 USA
SUMMARY:Standard Single
URL:/site/bmx_races/251719
END:VEVENT
END:VCALENDAR
