BEGIN:VCALENDAR
VERSION:2.0
PRODID:icalendar-ruby
CALSCALE:GREGORIAN
METHOD:PUBLISH
BEGIN:VEVENT
DTSTAMP:20260423T013406Z
UID:d93623c9-07b2-4204-80d8-c6f70593dcb2
DTSTART;VALUE=DATE:20130904
DTEND;VALUE=DATE:20130904
DESCRIPTION:San Diego BMX
LOCATION:3170 Armstrong Street Behind Kearny Mesa Recreation Center San Die
 go CA 92111 USA
SUMMARY:Standard Single
URL:/site/bmx_races/251723
END:VEVENT
END:VCALENDAR
