BEGIN:VCALENDAR
VERSION:2.0
PRODID:icalendar-ruby
CALSCALE:GREGORIAN
METHOD:PUBLISH
BEGIN:VEVENT
DTSTAMP:20260423T043159Z
UID:50e78208-303e-4e33-8f6a-4e87c2a7df0b
DTSTART;VALUE=DATE:20130527
DTEND;VALUE=DATE:20130527
DESCRIPTION:Cactus Park BMX
LOCATION:10610 Ashwood St  Lakeside CA 92040 USA
SUMMARY:Standard Single
URL:/site/bmx_races/251735
END:VEVENT
END:VCALENDAR
