BEGIN:VCALENDAR
VERSION:2.0
PRODID:icalendar-ruby
CALSCALE:GREGORIAN
METHOD:PUBLISH
BEGIN:VEVENT
DTSTAMP:20260423T063642Z
UID:1fd45cf4-c09f-4e45-af47-5147a992dbfa
DTSTART;VALUE=DATE:20130623
DTEND;VALUE=DATE:20130623
DESCRIPTION:San Diego BMX
LOCATION:3170 Armstrong Street Behind Kearny Mesa Recreation Center San Die
 go CA 92111 USA
SUMMARY:Standard Single
URL:/site/bmx_races/251895
END:VEVENT
END:VCALENDAR
