BEGIN:VCALENDAR
VERSION:2.0
PRODID:icalendar-ruby
CALSCALE:GREGORIAN
METHOD:PUBLISH
BEGIN:VEVENT
DTSTAMP:20260423T063604Z
UID:c8ea93ed-5455-45ce-b3b7-0afb87a651eb
DTSTART;VALUE=DATE:20130609
DTEND;VALUE=DATE:20130609
DESCRIPTION:San Diego BMX
LOCATION:3170 Armstrong Street Behind Kearny Mesa Recreation Center San Die
 go CA 92111 USA
SUMMARY:Standard Single
URL:/site/bmx_races/251950
END:VEVENT
END:VCALENDAR
