BEGIN:VCALENDAR
VERSION:2.0
PRODID:icalendar-ruby
CALSCALE:GREGORIAN
METHOD:PUBLISH
BEGIN:VEVENT
DTSTAMP:20260423T045023Z
UID:05682f00-26ab-4e30-9184-4685b7c54dfb
DTSTART;VALUE=DATE:20130714
DTEND;VALUE=DATE:20130714
DESCRIPTION:San Diego BMX
LOCATION:3170 Armstrong Street Behind Kearny Mesa Recreation Center San Die
 go CA 92111 USA
SUMMARY:Standard Single
URL:/site/bmx_races/251973
END:VEVENT
END:VCALENDAR
