BEGIN:VCALENDAR
VERSION:2.0
PRODID:icalendar-ruby
CALSCALE:GREGORIAN
METHOD:PUBLISH
BEGIN:VEVENT
DTSTAMP:20260423T013410Z
UID:324c8ccb-17c9-4370-a25f-c06a4d7e2abc
DTSTART;VALUE=DATE:20130925
DTEND;VALUE=DATE:20130925
DESCRIPTION:San Diego BMX
LOCATION:3170 Armstrong Street Behind Kearny Mesa Recreation Center San Die
 go CA 92111 USA
SUMMARY:Standard Single
URL:/site/bmx_races/251984
END:VEVENT
END:VCALENDAR
