BEGIN:VCALENDAR
VERSION:2.0
PRODID:icalendar-ruby
CALSCALE:GREGORIAN
METHOD:PUBLISH
BEGIN:VEVENT
DTSTAMP:20260422T125844Z
UID:4cf630ec-290c-4de1-a8cf-33a800e61c4e
DTSTART;VALUE=DATE:20131116
DTEND;VALUE=DATE:20131116
DESCRIPTION:Apple Valley BMX Moto Park
LOCATION:24320 Highway 18  Apple Valley CA 92307 USA
SUMMARY:Standard Single
URL:/site/bmx_races/252070
END:VEVENT
END:VCALENDAR
