BEGIN:VCALENDAR
VERSION:2.0
PRODID:icalendar-ruby
CALSCALE:GREGORIAN
METHOD:PUBLISH
BEGIN:VEVENT
DTSTAMP:20260424T063149Z
UID:06ed774e-1e25-40bf-ae69-f408c6877d6c
DTSTART;VALUE=DATE:20130614
DTEND;VALUE=DATE:20130614
DESCRIPTION:Kettering BMX
LOCATION:1700 Delco Park Dr  Kettering OH 45429 USA
SUMMARY:Standard Single
URL:/site/bmx_races/252094
END:VEVENT
END:VCALENDAR
