BEGIN:VCALENDAR
VERSION:2.0
PRODID:icalendar-ruby
CALSCALE:GREGORIAN
METHOD:PUBLISH
BEGIN:VEVENT
DTSTAMP:20260423T070125Z
UID:ed720e8c-35f9-47d6-b25d-c78cb2f8db6b
DTSTART;VALUE=DATE:20130801
DTEND;VALUE=DATE:20130801
DESCRIPTION:Mag Ridge BMX Park
LOCATION:344 Oldtown Crossing  Ridgeland MS 39157 USA
SUMMARY:Standard Single
URL:/site/bmx_races/252345
END:VEVENT
END:VCALENDAR
