BEGIN:VCALENDAR
VERSION:2.0
PRODID:icalendar-ruby
CALSCALE:GREGORIAN
METHOD:PUBLISH
BEGIN:VEVENT
DTSTAMP:20260423T121448Z
UID:1c4ae8de-f3f1-411c-893b-f37187a07393
DTSTART;VALUE=DATE:20140608
DTEND;VALUE=DATE:20140608
DESCRIPTION:Seatac BMX
LOCATION:1855 S 136th St  Sea Tac WA 98168 USA
SUMMARY:Standard Single
URL:/site/bmx_races/252721
END:VEVENT
END:VCALENDAR
