BEGIN:VCALENDAR
VERSION:2.0
PRODID:icalendar-ruby
CALSCALE:GREGORIAN
METHOD:PUBLISH
BEGIN:VEVENT
DTSTAMP:20260423T172804Z
UID:8d3979b8-0f02-4bb3-9dea-65ce4409f0b1
DTSTART;VALUE=DATE:20140721
DTEND;VALUE=DATE:20140721
DESCRIPTION:Sand Springs BMX
LOCATION:2600 S River City Park Rd  Sand Springs OK 74063 USA
SUMMARY:Clinic
URL:/site/bmx_races/252995
END:VEVENT
END:VCALENDAR
