BEGIN:VCALENDAR
VERSION:2.0
PRODID:icalendar-ruby
CALSCALE:GREGORIAN
METHOD:PUBLISH
BEGIN:VEVENT
DTSTAMP:20260422T035900Z
UID:34866727-0919-45fa-b197-da7e71488ca1
DTSTART;VALUE=DATE:20140513
DTEND;VALUE=DATE:20140513
DESCRIPTION:Apple Valley BMX Moto Park
LOCATION:24320 Highway 18  Apple Valley CA 92307 USA
SUMMARY:Standard Single
URL:/site/bmx_races/253162
END:VEVENT
END:VCALENDAR
