BEGIN:VCALENDAR
VERSION:2.0
PRODID:icalendar-ruby
CALSCALE:GREGORIAN
METHOD:PUBLISH
BEGIN:VEVENT
DTSTAMP:20260423T021613Z
UID:0e0d3db9-0747-4759-b748-fb58a760def9
DTSTART;VALUE=DATE:20140625
DTEND;VALUE=DATE:20140625
DESCRIPTION:Far North BMX
LOCATION:Kiana St & 19th Ave  Fairbanks AK 99709 USA
SUMMARY:Standard Single
URL:/site/bmx_races/253690
END:VEVENT
END:VCALENDAR
