BEGIN:VCALENDAR
VERSION:2.0
PRODID:icalendar-ruby
CALSCALE:GREGORIAN
METHOD:PUBLISH
BEGIN:VEVENT
DTSTAMP:20260426T015931Z
UID:71d7b0b2-aae7-4d88-9223-6a49cecdab9f
DTSTART;VALUE=DATE:20141005
DTEND;VALUE=DATE:20141005
DESCRIPTION:Rusty Bowl BMX
LOCATION:1281 E Gobbi St  Ukiah CA 95482 USA
SUMMARY:Earned Double
URL:/site/bmx_races/253958
END:VEVENT
END:VCALENDAR
