BEGIN:VCALENDAR
VERSION:2.0
PRODID:icalendar-ruby
CALSCALE:GREGORIAN
METHOD:PUBLISH
BEGIN:VEVENT
DTSTAMP:20260425T020515Z
UID:08a96a9e-f1a5-402b-bdbf-8555a0722be3
DTSTART;VALUE=DATE:20141207
DTEND;VALUE=DATE:20141207
DESCRIPTION:Peninsula Indoor BMX
LOCATION:5867 Dogwood Road Se  Port Orchard WA 98367 USA
SUMMARY:Local Race Single
URL:/site/bmx_races/254018
END:VEVENT
END:VCALENDAR
