BEGIN:VCALENDAR
VERSION:2.0
PRODID:icalendar-ruby
CALSCALE:GREGORIAN
METHOD:PUBLISH
BEGIN:VEVENT
DTSTAMP:20260423T034419Z
UID:878e0cd3-cc41-4d6f-bb1b-2c692de42a4d
DTSTART;VALUE=DATE:20150208
DTEND;VALUE=DATE:20150208
DESCRIPTION:Peninsula Indoor BMX
LOCATION:5867 Dogwood Road Se  Port Orchard WA 98367 USA
SUMMARY:Local Race Single
URL:/site/bmx_races/254023
END:VEVENT
END:VCALENDAR
