BEGIN:VCALENDAR
VERSION:2.0
PRODID:icalendar-ruby
CALSCALE:GREGORIAN
METHOD:PUBLISH
BEGIN:VEVENT
DTSTAMP:20260425T172557Z
UID:a263a8f4-8f85-4b1b-982e-af60570ca504
DTSTART;VALUE=DATE:20140906
DTEND;VALUE=DATE:20140906
DESCRIPTION:Milton BMX - Track 2000 
LOCATION:Drumquin Park   Britania Road Milton ON L9T 7G6 CAN
SUMMARY:Provincial Final Triple
URL:/site/bmx_races/254114
END:VEVENT
END:VCALENDAR
