BEGIN:VCALENDAR
VERSION:2.0
PRODID:icalendar-ruby
CALSCALE:GREGORIAN
METHOD:PUBLISH
BEGIN:VEVENT
DTSTAMP:20260425T122605Z
UID:92b63397-4e42-4cf0-b6bb-6dac97037c8a
DTSTART;VALUE=DATE:20140806
DTEND;VALUE=DATE:20140806
DESCRIPTION:Rad Canyon BMX
LOCATION:5200 W 9800 S  West Jordan UT 84081 USA
SUMMARY:Practice
URL:/site/bmx_races/254138
END:VEVENT
END:VCALENDAR
