BEGIN:VCALENDAR
VERSION:2.0
PRODID:icalendar-ruby
CALSCALE:GREGORIAN
METHOD:PUBLISH
BEGIN:VEVENT
DTSTAMP:20260423T065459Z
UID:b9fc06bb-3b24-4496-ae89-c3536098f930
DTSTART;VALUE=DATE:20140724
DTEND;VALUE=DATE:20140724
DESCRIPTION:New Paltz BMX
LOCATION:1 Clearwater Rd  New Paltz NY 12561 USA
SUMMARY:Standard Single
URL:/site/bmx_races/254345
END:VEVENT
END:VCALENDAR
