BEGIN:VCALENDAR
VERSION:2.0
PRODID:icalendar-ruby
CALSCALE:GREGORIAN
METHOD:PUBLISH
BEGIN:VEVENT
DTSTAMP:20260422T090220Z
UID:bd35035c-cf17-458d-8edf-029e3ec80bfb
DTSTART;VALUE=DATE:20140718
DTEND;VALUE=DATE:20140718
DESCRIPTION:San Diego BMX
LOCATION:3170 Armstrong Street Behind Kearny Mesa Recreation Center San Die
 go CA 92111 USA
SUMMARY:Standard Single
URL:/site/bmx_races/255092
END:VEVENT
END:VCALENDAR
