BEGIN:VCALENDAR
VERSION:2.0
PRODID:icalendar-ruby
CALSCALE:GREGORIAN
METHOD:PUBLISH
BEGIN:VEVENT
DTSTAMP:20260419T232149Z
UID:869a9f6e-6925-4056-a199-272043a24815
DTSTART;VALUE=DATE:20140716
DTEND;VALUE=DATE:20140716
DESCRIPTION:San Diego BMX
LOCATION:3170 Armstrong Street Behind Kearny Mesa Recreation Center San Die
 go CA 92111 USA
SUMMARY:Standard Single
URL:/site/bmx_races/255108
END:VEVENT
END:VCALENDAR
