BEGIN:VCALENDAR
VERSION:2.0
PRODID:icalendar-ruby
CALSCALE:GREGORIAN
METHOD:PUBLISH
BEGIN:VEVENT
DTSTAMP:20260419T144240Z
UID:bfb9e0ac-c720-46ef-b9ac-102b570e8edd
DTSTART;VALUE=DATE:20140912
DTEND;VALUE=DATE:20140912
DESCRIPTION:Whip City BMX
LOCATION:137 Russellville Road Westfield  Westfield MA 1085 USA
SUMMARY:Local Race Single
URL:/site/bmx_races/255453
END:VEVENT
END:VCALENDAR
