BEGIN:VCALENDAR
VERSION:2.0
PRODID:icalendar-ruby
CALSCALE:GREGORIAN
METHOD:PUBLISH
BEGIN:VEVENT
DTSTAMP:20260424T025220Z
UID:1fdebb7b-63a9-4841-8d3a-12284cb93945
DTSTART;VALUE=DATE:20140815
DTEND;VALUE=DATE:20140815
DESCRIPTION:Waterford Oaks BMX
LOCATION:1702 Scott Lake Rd  Waterford MI 48328 USA
SUMMARY:Standard Single
URL:/site/bmx_races/255493
END:VEVENT
END:VCALENDAR
