BEGIN:VCALENDAR
VERSION:2.0
PRODID:icalendar-ruby
CALSCALE:GREGORIAN
METHOD:PUBLISH
BEGIN:VEVENT
DTSTAMP:20260422T070751Z
UID:0e38d2f8-3eb8-457b-9e92-cab8183d0f5d
DTSTART;VALUE=DATE:20140803
DTEND;VALUE=DATE:20140803
DESCRIPTION:San Diego BMX
LOCATION:3170 Armstrong Street Behind Kearny Mesa Recreation Center San Die
 go CA 92111 USA
SUMMARY:Standard Single
URL:/site/bmx_races/255520
END:VEVENT
END:VCALENDAR
