BEGIN:VCALENDAR
VERSION:2.0
PRODID:icalendar-ruby
CALSCALE:GREGORIAN
METHOD:PUBLISH
BEGIN:VEVENT
DTSTAMP:20260424T010417Z
UID:d8774f4a-a78e-45ff-91ab-1be7db203ac7
DTSTART;VALUE=DATE:20140713
DTEND;VALUE=DATE:20140713
DESCRIPTION:Sports Park BMX
LOCATION:6901 N Casa Grande Highway  Tucson AZ 85743 USA
SUMMARY:Standard Single
URL:/site/bmx_races/255866
END:VEVENT
END:VCALENDAR
