BEGIN:VCALENDAR
VERSION:2.0
PRODID:icalendar-ruby
CALSCALE:GREGORIAN
METHOD:PUBLISH
BEGIN:VEVENT
DTSTAMP:20260424T142529Z
UID:61475eff-e1de-45f8-821e-3c24f5fde95b
DTSTART;VALUE=DATE:20140830
DTEND;VALUE=DATE:20140830
DESCRIPTION:Park City BMX
LOCATION:6801 N Hydraulic  Park City KS 67219 USA
SUMMARY:Standard Single
URL:/site/bmx_races/255882
END:VEVENT
END:VCALENDAR
