BEGIN:VCALENDAR
VERSION:2.0
PRODID:icalendar-ruby
CALSCALE:GREGORIAN
METHOD:PUBLISH
BEGIN:VEVENT
DTSTAMP:20260422T095653Z
UID:d2778f69-6084-4436-a88d-8ffe77c9ed15
DTSTART;VALUE=DATE:20140920
DTEND;VALUE=DATE:20140920
DESCRIPTION:Mag Ridge BMX Park
LOCATION:344 Oldtown Crossing  Ridgeland MS 39157 USA
SUMMARY:Practice
URL:/site/bmx_races/255973
END:VEVENT
END:VCALENDAR
