BEGIN:VCALENDAR
VERSION:2.0
PRODID:icalendar-ruby
CALSCALE:GREGORIAN
METHOD:PUBLISH
BEGIN:VEVENT
DTSTAMP:20260425T143031Z
UID:e84a3b85-a774-4ad6-abdd-62acb563760b
DTSTART;VALUE=DATE:20150821
DTEND;VALUE=DATE:20150823
DESCRIPTION:Grand Valley BMX
LOCATION:2785 U.S. Highway 50  Grand Junction CO 81503 USA
SUMMARY:Mile High Nationals - Supercross Series
URL:/site/bmx_races/256503
END:VEVENT
END:VCALENDAR
