BEGIN:VCALENDAR
VERSION:2.0
PRODID:icalendar-ruby
CALSCALE:GREGORIAN
METHOD:PUBLISH
BEGIN:VEVENT
DTSTAMP:20260426T035820Z
UID:44952e32-0f55-4a6a-a117-3b7777c6d1b4
DTSTART;VALUE=DATE:20140904
DTEND;VALUE=DATE:20140904
DESCRIPTION:Yucca Valley BMX
LOCATION:6989 Sage Ave  Yucca Valley CA 92234 USA
SUMMARY:Standard Single
URL:/site/bmx_races/256558
END:VEVENT
END:VCALENDAR
