BEGIN:VCALENDAR
VERSION:2.0
PRODID:icalendar-ruby
CALSCALE:GREGORIAN
METHOD:PUBLISH
BEGIN:VEVENT
DTSTAMP:20260425T202316Z
UID:d752ac17-7d7a-477c-89a4-2931fbbbadb2
DTSTART;VALUE=DATE:20141016
DTEND;VALUE=DATE:20141016
DESCRIPTION:WALLA WALLA BMX
LOCATION:Fort Walla Walla Park   1898 Dalles Military Rd Walla Walla WA 993
 62 USA
SUMMARY:Practice
URL:/site/bmx_races/256599
END:VEVENT
END:VCALENDAR
