BEGIN:VCALENDAR
VERSION:2.0
PRODID:icalendar-ruby
CALSCALE:GREGORIAN
METHOD:PUBLISH
BEGIN:VEVENT
DTSTAMP:20260422T121610Z
UID:26b8ba29-9010-486b-89c7-c03880695a2d
DTSTART;VALUE=DATE:20150728
DTEND;VALUE=DATE:20150728
DESCRIPTION:Rock City BMX
LOCATION:3300 10 Mile Road  Rockford MI 49341 USA
SUMMARY:Local Race Single
URL:/site/bmx_races/257301
END:VEVENT
END:VCALENDAR
