BEGIN:VCALENDAR
VERSION:2.0
PRODID:icalendar-ruby
CALSCALE:GREGORIAN
METHOD:PUBLISH
BEGIN:VEVENT
DTSTAMP:20260422T091924Z
UID:3c111811-801b-4eec-a12f-419cd0f0fe40
DTSTART;VALUE=DATE:20150905
DTEND;VALUE=DATE:20150905
DESCRIPTION:Rock City BMX
LOCATION:3300 10 Mile Road  Rockford MI 49341 USA
SUMMARY:Local Race Single
URL:/site/bmx_races/257317
END:VEVENT
END:VCALENDAR
