BEGIN:VCALENDAR
VERSION:2.0
PRODID:icalendar-ruby
CALSCALE:GREGORIAN
METHOD:PUBLISH
BEGIN:VEVENT
DTSTAMP:20260422T091925Z
UID:6bcf8f12-9ff8-4eba-b90c-1b80df0b9e72
DTSTART;VALUE=DATE:20150910
DTEND;VALUE=DATE:20150910
DESCRIPTION:Rock City BMX
LOCATION:3300 10 Mile Road  Rockford MI 49341 USA
SUMMARY:Practice
URL:/site/bmx_races/257318
END:VEVENT
END:VCALENDAR
