BEGIN:VCALENDAR
VERSION:2.0
PRODID:icalendar-ruby
CALSCALE:GREGORIAN
METHOD:PUBLISH
BEGIN:VEVENT
DTSTAMP:20260426T035741Z
UID:3b2cabdb-3237-48c7-93de-72197ffc23e5
DTSTART;VALUE=DATE:20150620
DTEND;VALUE=DATE:20150620
DESCRIPTION:Imagination Glen BMX
LOCATION:2190 N State Rd 149  Portage IN 46304 USA
SUMMARY:Local Race Single
URL:/site/bmx_races/257532
END:VEVENT
END:VCALENDAR
