BEGIN:VCALENDAR
VERSION:2.0
PRODID:icalendar-ruby
CALSCALE:GREGORIAN
METHOD:PUBLISH
BEGIN:VEVENT
DTSTAMP:20260426T022212Z
UID:327593ef-0424-438d-8ffd-4624df4aae03
DTSTART;VALUE=DATE:20150731
DTEND;VALUE=DATE:20150731
DESCRIPTION:Imagination Glen BMX
LOCATION:2190 N State Rd 149  Portage IN 46304 USA
SUMMARY:Practice
URL:/site/bmx_races/257555
END:VEVENT
END:VCALENDAR
