BEGIN:VCALENDAR
VERSION:2.0
PRODID:icalendar-ruby
CALSCALE:GREGORIAN
METHOD:PUBLISH
BEGIN:VEVENT
DTSTAMP:20260423T045024Z
UID:35cb8394-29bd-4c21-a436-24d1790d1cdd
DTSTART;VALUE=DATE:20150822
DTEND;VALUE=DATE:20150822
DESCRIPTION:Imagination Glen BMX
LOCATION:2190 N State Rd 149  Portage IN 46304 USA
SUMMARY:Local Race Single
URL:/site/bmx_races/257568
END:VEVENT
END:VCALENDAR
