BEGIN:VCALENDAR
VERSION:2.0
PRODID:icalendar-ruby
CALSCALE:GREGORIAN
METHOD:PUBLISH
BEGIN:VEVENT
DTSTAMP:20260423T121425Z
UID:fed60d4d-aa60-4e6d-9702-e7689d660e9e
DTSTART;VALUE=DATE:20150106
DTEND;VALUE=DATE:20150106
DESCRIPTION:Elkhorn BMX
LOCATION:848 Elkhorn Blvd  Rio Linda CA 95673 USA
SUMMARY:Local Race Single
URL:/site/bmx_races/258501
END:VEVENT
END:VCALENDAR
