BEGIN:VCALENDAR
VERSION:2.0
PRODID:icalendar-ruby
CALSCALE:GREGORIAN
METHOD:PUBLISH
BEGIN:VEVENT
DTSTAMP:20260422T194501Z
UID:cd4c473e-2949-48d1-b571-f6e23ef65d3f
DTSTART;VALUE=DATE:20151124
DTEND;VALUE=DATE:20151124
DESCRIPTION:Elkhorn BMX
LOCATION:848 Elkhorn Blvd  Rio Linda CA 95673 USA
SUMMARY:Local Race Single
URL:/site/bmx_races/258593
END:VEVENT
END:VCALENDAR
