BEGIN:VCALENDAR
VERSION:2.0
PRODID:icalendar-ruby
CALSCALE:GREGORIAN
METHOD:PUBLISH
BEGIN:VEVENT
DTSTAMP:20260424T024643Z
UID:9a08ec1e-87a5-4fed-a110-2e4993dc8399
DTSTART;VALUE=DATE:20150715
DTEND;VALUE=DATE:20150715
DESCRIPTION:Tucson BMX
LOCATION:9245 E Irvington  Tucson AZ 85730 USA
SUMMARY:Local Race Single
URL:/site/bmx_races/260053
END:VEVENT
END:VCALENDAR
