BEGIN:VCALENDAR
VERSION:2.0
PRODID:icalendar-ruby
CALSCALE:GREGORIAN
METHOD:PUBLISH
BEGIN:VEVENT
DTSTAMP:20260424T045246Z
UID:0f782ba0-1a9e-455d-8209-29e5e0ac8af3
DTSTART;VALUE=DATE:20150816
DTEND;VALUE=DATE:20150816
DESCRIPTION:Rockford BMX
LOCATION:4950 Safford Rd  Rockford IL 61101 USA
SUMMARY:Local Race Single
URL:/site/bmx_races/260375
END:VEVENT
END:VCALENDAR
